BEGIN:VCALENDAR
VERSION:2.0
PRODID:-//Sugarbush Golf Club - ECPv6.15.20//NONSGML v1.0//EN
CALSCALE:GREGORIAN
METHOD:PUBLISH
X-ORIGINAL-URL:https://sugarbushgolf.com
X-WR-CALDESC:Events for Sugarbush Golf Club
REFRESH-INTERVAL;VALUE=DURATION:PT1H
X-Robots-Tag:noindex
X-PUBLISHED-TTL:PT1H
BEGIN:VTIMEZONE
TZID:America/Detroit
BEGIN:DAYLIGHT
TZOFFSETFROM:-0500
TZOFFSETTO:-0400
TZNAME:EDT
DTSTART:20250309T070000
END:DAYLIGHT
BEGIN:STANDARD
TZOFFSETFROM:-0400
TZOFFSETTO:-0500
TZNAME:EST
DTSTART:20251102T060000
END:STANDARD
BEGIN:DAYLIGHT
TZOFFSETFROM:-0500
TZOFFSETTO:-0400
TZNAME:EDT
DTSTART:20260308T070000
END:DAYLIGHT
BEGIN:STANDARD
TZOFFSETFROM:-0400
TZOFFSETTO:-0500
TZNAME:EST
DTSTART:20261101T060000
END:STANDARD
BEGIN:DAYLIGHT
TZOFFSETFROM:-0500
TZOFFSETTO:-0400
TZNAME:EDT
DTSTART:20270314T070000
END:DAYLIGHT
BEGIN:STANDARD
TZOFFSETFROM:-0400
TZOFFSETTO:-0500
TZNAME:EST
DTSTART:20271107T060000
END:STANDARD
END:VTIMEZONE
BEGIN:VEVENT
DTSTART;TZID=America/Detroit:20260320T170000
DTEND;TZID=America/Detroit:20260320T210000
DTSTAMP:20260419T125958
CREATED:20260113T144618Z
LAST-MODIFIED:20260116T193213Z
UID:25785-1774026000-1774040400@sugarbushgolf.com
SUMMARY:Trivia Night
DESCRIPTION:Trivia Night at Sugarbush Golf Club 🧠🍻\nJoin us Friday\, March 20\, 2026\, for a “Green With Envy” themed Trivia Night at Sugarbush Golf Club. \nThis special night leans into all things green\, from St. Patrick’s Day-inspired fun and famous greens to pop culture\, history\, and clever surprises mixed in along the way. Expect a relaxed\, welcoming evening with good questions\, good food\, and plenty of laughs in the clubhouse. \nBring your regular trivia crew or gather a new team and enjoy an evening that’s competitive in spirit but easygoing in pace. \nDoors open: 6:00 PMTrivia starts: 7:00 PMCost: $5 per person \nTo ensure your seating\, please call 810.653.3326 to reserve your table. \nGood company\, friendly competition\, and a night that feels just right. \nThis round feels like home.
URL:https://sugarbushgolf.com/event/trivia-night-2/
LOCATION:Sugarbush Golf Club\, 1 Sugarbush Drive\, Davison\, MI\, 48423\, United States
CATEGORIES:Restaurant
END:VEVENT
END:VCALENDAR